View In:
ArcGIS JavaScript
ArcGIS Online Map Viewer
ArcGIS Earth
ArcMap
ArcGIS Pro
View Footprint In:
ArcGIS Online Map Viewer
Service Description: Non-cached Pictometry 2020 standard ortho's, for areas not covered by the AccuPlus. Created from an unmanaged raster catalog
Map Name: Pictometry_Standard_2020
Legend
All Layers and Tables
Layers:
Description: Non-cached Pictometry 2020 standard ortho's, for areas not covered by the AccuPlus. Created from an unmanaged raster catalog
Copyright Text: Henderson County IT/GIS, Henderson County Tax Office, EagleView
Spatial Reference:
102100
(3857)
Single Fused Map Cache: true
Tile Info:
- Height: 256
- Width: 256
- DPI: 96
-
Levels of Detail: 24
-
Level ID: 1
[ Start Tile, End Tile ]
- Resolution: 78271.5169639999
- Scale: 2.95828763795777E8
-
Level ID: 2
[ Start Tile, End Tile ]
- Resolution: 39135.7584820001
- Scale: 1.47914381897889E8
-
Level ID: 3
[ Start Tile, End Tile ]
- Resolution: 19567.8792409999
- Scale: 7.3957190948944E7
-
Level ID: 4
[ Start Tile, End Tile ]
- Resolution: 9783.93962049996
- Scale: 3.6978595474472E7
-
Level ID: 5
[ Start Tile, End Tile ]
- Resolution: 4891.96981024998
- Scale: 1.8489297737236E7
- Format: PNG
- Compression Quality: 0.0
- Origin: X: -2.0037508342787E7
Y: 2.0037508342787E7
- Spatial Reference: 102100
(3857)
Initial Extent:
XMin: -9210285.951063955
YMin: 4183305.617735917
XMax: -9152832.239655154
YMax: 4233438.2546637785
Spatial Reference: 102100
Full Extent:
XMin: -9202897.052847978
YMin: 4182263.4553575073
XMax: -9155747.664060773
YMax: 4233054.294030984
Spatial Reference: 102100
Units: esriMeters
Supported Image Format Types: PNG32,PNG24,PNG,JPG,DIB,TIFF,EMF,PS,PDF,GIF,SVG,SVGZ,BMP
Document Info:
Title: Pictometry_Standard_2020
Author:
Comments: <DIV STYLE="text-align:Left;font-size:12pt"><P><SPAN>Non-cached Pictometry 2020 standard ortho's, for areas not covered by the AccuPlus. Created from an unmanaged raster catalog</SPAN></P></DIV>
Subject: Non-cached Pictometry 2020 standard ortho's, for areas not covered by the AccuPlus. Created from an unmanaged raster catalog
Category:
Keywords: orthophotos,aerial photos
AntialiasingMode: None
TextAntialiasingMode: Force
Supports Dynamic Layers: false
MaxRecordCount: 2000
MaxImageHeight: 4096
MaxImageWidth: 4096
Supported Query Formats: JSON, geoJSON, PBF
Supports Query Data Elements: true
Min Scale: 4622324.434309
Max Scale: 564.248588
Min LOD: 7
Max LOD: 20
Supports Datum Transformation: true
Child Resources:
Info
Supported Operations:
Export Map
Identify
QueryDomains
QueryLegends
Find
Return Updates