View In:
ArcGIS JavaScript
ArcGIS Online Map Viewer
ArcGIS Earth
ArcMap
ArcGIS Pro
View Footprint In:
ArcGIS Online Map Viewer
Service Description: Pictometry AccuPlus Orthophotos, early 2020
Map Name: Pictometry_AccuPlus_2020
Legend
All Layers and Tables
Dynamic Legend
Dynamic All Layers
Layers:
Description: Pictometry AccuPlus Orthophotos, early 2020
Copyright Text:
Spatial Reference:
102100
(3857)
Single Fused Map Cache: true
Tile Info:
- Height: 256
- Width: 256
- DPI: 96
-
Levels of Detail: 24
-
Level ID: 1
[ Start Tile, End Tile ]
- Resolution: 78271.5169639999
- Scale: 2.95828763795777E8
-
Level ID: 2
[ Start Tile, End Tile ]
- Resolution: 39135.7584820001
- Scale: 1.47914381897889E8
-
Level ID: 3
[ Start Tile, End Tile ]
- Resolution: 19567.8792409999
- Scale: 7.3957190948944E7
-
Level ID: 4
[ Start Tile, End Tile ]
- Resolution: 9783.93962049996
- Scale: 3.6978595474472E7
-
Level ID: 5
[ Start Tile, End Tile ]
- Resolution: 4891.96981024998
- Scale: 1.8489297737236E7
- Format: PNG
- Compression Quality: 0.0
- Origin: X: -2.0037508342787E7
Y: 2.0037508342787E7
- Spatial Reference: 102100
(3857)
Initial Extent:
XMin: -9189171.477935836
YMin: 4199037.143621303
XMax: -9169130.46249513
YMax: 4217378.615690172
Spatial Reference: 102100
Full Extent:
XMin: -9186776.30928839
YMin: 4201025.655058343
XMax: -9171525.631142572
YMax: 4215390.104253132
Spatial Reference: 102100
Units: esriMeters
Supported Image Format Types: PNG32,PNG24,PNG,JPG,DIB,TIFF,EMF,PS,PDF,GIF,SVG,SVGZ,BMP
Document Info:
Title: Pictometry_AccuPlus_2020
Author:
Comments: <DIV STYLE="text-align:Left;font-size:12pt"><P><SPAN>Pictometry AccuPlus Orthophotos, early 2020</SPAN></P></DIV>
Subject: Pictometry AccuPlus Orthophotos, early 2020
Category:
Keywords: Henderson County,NC,orthophotos
AntialiasingMode: None
TextAntialiasingMode: Force
Supports Dynamic Layers: true
MaxRecordCount: 2000
MaxImageHeight: 4096
MaxImageWidth: 4096
Supported Query Formats: JSON, geoJSON, PBF
Supports Query Data Elements: true
Min Scale: 1.8489297737236E7
Max Scale: 564.248588
Min LOD: 5
Max LOD: 20
Supports Datum Transformation: true
Child Resources:
Info
Dynamic Layer
Supported Operations:
Export Map
Identify
QueryDomains
QueryLegends
Find
Return Updates