View In:
ArcGIS JavaScript
ArcGIS Online Map Viewer
ArcGIS Earth
ArcMap
ArcGIS Pro
View Footprint In:
ArcGIS Online Map Viewer
Service Description: Floodplain and other Flood Data for Henderson County, NC. Last update was 2010. This layer is used in MapMetrics.
Map Name: Flood_Data
Legend
All Layers and Tables
Dynamic Legend
Dynamic All Layers
Layers:
Description: Floodplain and other Flood Data for Henderson County, NC. Last update was 2010. This layer is used in MapMetrics.
Copyright Text:
Spatial Reference:
102100
(3857)
Single Fused Map Cache: true
Tile Info:
- Height: 256
- Width: 256
- DPI: 96
-
Levels of Detail: 24
-
Level ID: 1
[ Start Tile, End Tile ]
- Resolution: 78271.5169639999
- Scale: 2.95828763795777E8
-
Level ID: 2
[ Start Tile, End Tile ]
- Resolution: 39135.7584820001
- Scale: 1.47914381897889E8
-
Level ID: 3
[ Start Tile, End Tile ]
- Resolution: 19567.8792409999
- Scale: 7.3957190948944E7
-
Level ID: 4
[ Start Tile, End Tile ]
- Resolution: 9783.93962049996
- Scale: 3.6978595474472E7
-
Level ID: 5
[ Start Tile, End Tile ]
- Resolution: 4891.96981024998
- Scale: 1.8489297737236E7
- Format: PNG
- Compression Quality: 0.0
- Origin: X: -2.0037508342787E7
Y: 2.0037508342787E7
- Spatial Reference: 102100
(3857)
Initial Extent:
XMin: -9209968.252073828
YMin: 4184511.457771471
XMax: -9156408.366739389
YMax: 4232077.149223847
Spatial Reference: 102100
(3857)
Full Extent:
XMin: -9211481.960554617
YMin: 4182876.66395703
XMax: -9156206.090767942
YMax: 4232320.002360859
Spatial Reference: 102100
(3857)
Units: esriMeters
Supported Image Format Types: PNG32,PNG24,PNG,JPG,DIB,TIFF,EMF,PS,PDF,GIF,SVG,SVGZ,BMP
Document Info:
Title: Flood_Data
Author:
Comments: <DIV STYLE="text-align:Left;font-size:12pt"><P><SPAN>Floodplain and other Flood Data for Henderson County, NC. Last update was 2010. This layer is used in MapMetrics.</SPAN></P></DIV>
Subject: Floodplain and other Flood Data for Henderson County, NC. Last update was 2010. This layer is used in MapMetrics.
Category:
Keywords: Floodplain,flood zones,Henderson County,NC
AntialiasingMode: None
TextAntialiasingMode: Force
Supports Dynamic Layers: true
Resampling: false
MaxRecordCount: 1000
MaxImageHeight: 4096
MaxImageWidth: 4096
Supported Query Formats: JSON, geoJSON, PBF
Supports Query Data Elements: true
Min Scale: 3.6978595474472E7
Max Scale: 1128.497176
Supports Datum Transformation: true
Child Resources:
Info
Dynamic Layer
Supported Operations:
Export Map
Identify
QueryDomains
QueryLegends
Find
Return Updates
Generate KML