View In:
ArcGIS JavaScript
ArcGIS Online Map Viewer
ArcGIS Earth
ArcMap
ArcGIS Pro
View Footprint In:
ArcGIS Online Map Viewer
Service Description: USGS quads for Henderson County, updated in 2022 with new data. All quads but Horse Shoe have been updated since 2019.
Map Name: USGS_Quads_2019_2022
Legend
All Layers and Tables
Dynamic Legend
Dynamic All Layers
Layers:
Description: USGS quads for Henderson County, updated in 2022 with new data. All quads but Horse Shoe have been updated since 2019.
Copyright Text: United States Geological Survey
Spatial Reference:
102100
(3857)
Single Fused Map Cache: true
Tile Info:
- Height: 256
- Width: 256
- DPI: 96
-
Levels of Detail: 24
-
Level ID: 1
[ Start Tile, End Tile ]
- Resolution: 78271.5169639999
- Scale: 2.95828763795777E8
-
Level ID: 2
[ Start Tile, End Tile ]
- Resolution: 39135.7584820001
- Scale: 1.47914381897889E8
-
Level ID: 3
[ Start Tile, End Tile ]
- Resolution: 19567.8792409999
- Scale: 7.3957190948944E7
-
Level ID: 4
[ Start Tile, End Tile ]
- Resolution: 9783.93962049996
- Scale: 3.6978595474472E7
-
Level ID: 5
[ Start Tile, End Tile ]
- Resolution: 4891.96981024998
- Scale: 1.8489297737236E7
- Format: PNG
- Compression Quality: 0.0
- Origin: X: -2.0037508342787E7
Y: 2.0037508342787E7
- Spatial Reference: 102100
(3857)
Initial Extent:
XMin: -9218402.886000754
YMin: 4171942.797237528
XMax: -9140037.148916574
YMax: 4252765.140499897
Spatial Reference: 102100
Full Extent:
XMin: -9214038.744785447
YMin: 4177718.899905455
XMax: -9153679.573279617
YMax: 4251193.7574167
Spatial Reference: 102100
Units: esriMeters
Supported Image Format Types: PNG32,PNG24,PNG,JPG,DIB,TIFF,EMF,PS,PDF,GIF,SVG,SVGZ,BMP
Document Info:
Title: USGS Quads 2019 - 2022
Author:
Comments: <DIV STYLE="text-align:Left;font-size:12pt"><DIV><DIV><P><SPAN>USGS quads for Henderson County, updated in 2022 with new data. All quads but Horse Shoe have been updated since 2019.</SPAN></P></DIV></DIV></DIV>
Subject: USGS quads for Henderson County, updated in 2022 with new data
Category:
Keywords: USGS,quads,1:24000
AntialiasingMode: None
TextAntialiasingMode: Force
Supports Dynamic Layers: true
MaxRecordCount: 2000
MaxImageHeight: 4096
MaxImageWidth: 4096
Supported Query Formats: JSON, geoJSON, PBF
Supports Query Data Elements: true
Min Scale: 4622324.434309
Max Scale: 1128.497176
Min LOD: 7
Max LOD: 19
Supports Datum Transformation: true
Child Resources:
Info
Dynamic Layer
Supported Operations:
Export Map
Identify
QueryDomains
QueryLegends
Find
Return Updates